BEGIN:VCALENDAR
VERSION:2.0
PRODID:-//Buck&#039;s Backyard - ECPv6.15.18//NONSGML v1.0//EN
CALSCALE:GREGORIAN
METHOD:PUBLISH
X-ORIGINAL-URL:https://bucksbackyard.com
X-WR-CALDESC:Events for Buck&#039;s Backyard
REFRESH-INTERVAL;VALUE=DURATION:PT1H
X-Robots-Tag:noindex
X-PUBLISHED-TTL:PT1H
BEGIN:VTIMEZONE
TZID:America/New_York
BEGIN:DAYLIGHT
TZOFFSETFROM:-0500
TZOFFSETTO:-0400
TZNAME:EDT
DTSTART:20250309T070000
END:DAYLIGHT
BEGIN:STANDARD
TZOFFSETFROM:-0400
TZOFFSETTO:-0500
TZNAME:EST
DTSTART:20251102T060000
END:STANDARD
BEGIN:DAYLIGHT
TZOFFSETFROM:-0500
TZOFFSETTO:-0400
TZNAME:EDT
DTSTART:20260308T070000
END:DAYLIGHT
BEGIN:STANDARD
TZOFFSETFROM:-0400
TZOFFSETTO:-0500
TZNAME:EST
DTSTART:20261101T060000
END:STANDARD
BEGIN:DAYLIGHT
TZOFFSETFROM:-0500
TZOFFSETTO:-0400
TZNAME:EDT
DTSTART:20270314T070000
END:DAYLIGHT
BEGIN:STANDARD
TZOFFSETFROM:-0400
TZOFFSETTO:-0500
TZNAME:EST
DTSTART:20271107T060000
END:STANDARD
END:VTIMEZONE
BEGIN:VEVENT
DTSTART;TZID=America/New_York:20260502T190000
DTEND;TZID=America/New_York:20260502T230000
DTSTAMP:20260421T060412
CREATED:20260305T183924Z
LAST-MODIFIED:20260320T155703Z
UID:10000369-1777748400-1777762800@bucksbackyard.com
SUMMARY:Ted Nugent
DESCRIPTION:About the Show:\n\n\n\n\nFor More Bucks Events: https://bucksbackyard.com/events/
URL:https://bucksbackyard.com/event/ted-nugent/
LOCATION:TX
ATTACH;FMTTYPE=image/jpeg:https://bucksbackyard.com/wp-content/uploads/2026/03/TED-NUGENT-BUCKS-BACKYARD-1920x1080-TV.jpg
END:VEVENT
BEGIN:VEVENT
DTSTART;TZID=America/New_York:20260508T200000
DTEND;TZID=America/New_York:20260508T230000
DTSTAMP:20260421T060412
CREATED:20260107T180938Z
LAST-MODIFIED:20260317T223345Z
UID:10000343-1778270400-1778281200@bucksbackyard.com
SUMMARY:Bri Bagwell
DESCRIPTION:About the Show:\nBri Bagwell\n\nTexas Female Artist of the Decade and nine-time Female Vocalist of the Year\, Bri Bagwell is one of the most respected names in Texas Country. With 15 #1 singles\, multiple acclaimed albums\, and over 100 shows a year\, she’s known for her powerful songwriting and electrifying live performances. \nHer recent releases—including “Border Girl” and #1 hit “Hit The Highway”—showcase her signature blend of country\, rock\, and cultural influence. Her 2022 album Corazón y Cabeza produced multiple chart-toppers\, while 2024’s “The Rescue” connected deeply with fans and supported animal shelters. \nBorn in Las Cruces\, NM and now based in New Braunfels\, TX\, Bagwell has shared the stage with legends like Willie Nelson\, Miranda Lambert\, and Dwight Yoakam. She’s also the host of the hit podcast ONLY VANS\, offering a behind-the-scenes look at life on the road. \nWith new music on the way\, Bri Bagwell continues to lead the charge in Texas Country. \nFor More Bucks Events: https://bucksbackyard.com/events/
URL:https://bucksbackyard.com/event/bri-bagwell/
LOCATION:TX
ATTACH;FMTTYPE=image/jpeg:https://bucksbackyard.com/wp-content/uploads/2026/01/BRI-BAGWELL-BUCKS-BACKYARD-1920x1080-TV.jpg
END:VEVENT
BEGIN:VEVENT
DTSTART;TZID=America/New_York:20260509T200000
DTEND;TZID=America/New_York:20260509T230000
DTSTAMP:20260421T060412
CREATED:20260223T141018Z
LAST-MODIFIED:20260317T220734Z
UID:10000363-1778356800-1778367600@bucksbackyard.com
SUMMARY:Huser Brothers
DESCRIPTION:About the Show: \nHuser Brothers \nHailing from Waco\, Texas\, the Huser Brothers are making waves with their soulful\, high-energy blend of country and rock. Raised along the I-35 corridor\, the brothers deliver an entertaining live show you don’t want to miss. \nTheir debut EP Find My Way (2018) featured standout tracks like “Dancefloor” and “Highway\,” followed by fan favorites like “Tired of Runnin’” and “Honey.” In 2025\, they earned TCMA Country Band of the Year honors. \nThey’ve shared the stage with top acts including Koe Wetzel\, Parker McCollum\, Treaty Oak Revival\, Dylan Scott\, and Gary Allan. \nWith new music on the way\, Huser Brothers are an act to watch—big things are coming.  \nFor More Bucks Events: https://bucksbackyard.com/events/
URL:https://bucksbackyard.com/event/huser-brothers/
LOCATION:TX
ATTACH;FMTTYPE=image/jpeg:https://bucksbackyard.com/wp-content/uploads/2026/02/Huser-Brothers-BUCKS-BACKYARD.jpg
END:VEVENT
BEGIN:VEVENT
DTSTART;TZID=America/New_York:20260515T200000
DTEND;TZID=America/New_York:20260515T230000
DTSTAMP:20260421T060412
CREATED:20260211T150531Z
LAST-MODIFIED:20260317T213930Z
UID:10000360-1778875200-1778886000@bucksbackyard.com
SUMMARY:Bag of Donuts
DESCRIPTION:About the Show:\nBag of Donuts \nWith a flair for kabuki make-up and extravagant costumes\, the four New Orleans natives and two brass men cover songs in a style they have branded as Superpop: Any song popular from any era. In the great tradition of stunning acts\, BOD has to be experienced live to fully feel the impact. The universality of their show stems from the idea that everyone likes to have an escape\, a release.\nFor More Bucks Events: https://bucksbackyard.com/events/
URL:https://bucksbackyard.com/event/bag-of-donuts/
LOCATION:Buck’s Backyard\, 1750 S. FM 1626\, Buda\, TX\, 78610\, United States
ATTACH;FMTTYPE=image/jpeg:https://bucksbackyard.com/wp-content/uploads/2026/02/BoD-BUCKS-BACKYARD.jpg
GEO:30.0708447;-97.8730954
X-APPLE-STRUCTURED-LOCATION;VALUE=URI;X-ADDRESS=Buck’s Backyard 1750 S. FM 1626 Buda TX 78610 United States;X-APPLE-RADIUS=500;X-TITLE=1750 S. FM 1626:geo:-97.8730954,30.0708447
END:VEVENT
BEGIN:VEVENT
DTSTART;TZID=America/New_York:20260516T200000
DTEND;TZID=America/New_York:20260516T230000
DTSTAMP:20260421T060412
CREATED:20260316T141400Z
LAST-MODIFIED:20260317T221754Z
UID:10000372-1778961600-1778972400@bucksbackyard.com
SUMMARY:VHX (Van Halen Experience)
DESCRIPTION:About the Show: \nThe Van Halen Experience is designed to give the audience the true VH experience. Much more than a tribute\, VHX captures the essence of a live VH concert. \nFor More Bucks Events: https://bucksbackyard.com/events/
URL:https://bucksbackyard.com/event/vhx-van-halen-experience/
LOCATION:TX
ATTACH;FMTTYPE=image/jpeg:https://bucksbackyard.com/wp-content/uploads/2026/03/VHX-VAN-HALEN-BUCKS-BACKYARD.jpg
END:VEVENT
BEGIN:VEVENT
DTSTART;TZID=America/New_York:20260523T200000
DTEND;TZID=America/New_York:20260523T230000
DTSTAMP:20260421T060412
CREATED:20260407T161305Z
LAST-MODIFIED:20260407T161305Z
UID:10000385-1779566400-1779577200@bucksbackyard.com
SUMMARY:Madam Radar
DESCRIPTION:About the Show:\nMadam Radar \nMADAM RADAR is an Americana rock band that punches hard with their explosive harmonies\, soaring guitar solos\, and eclectic original tunes. The band is a tangled web of family and friends; Jace Cadle (rhythm guitar/vocals) is married to Kelly Green (lead guitar/vocals) who is the sister of Kody Lee (drums/vocals) who is married to Violet Lea (bass/vocals). Welcome to the Family. \nFronted by the trio of Kelly\, Violet\, and Jace\, MADAM RADAR is a revolving door of high-energy singer-songwriters\, each with their own perspective and style that magically seem to overlap like the layers of a kaleidoscope. With all four members of the band providing harmonies\, MADAM RADAR is a wall of colorful sound that changes shape\, demanding your undivided attention. \nMADAM RADAR has shared stages with renowned acts such as Bon Jovi\, Arc Angels\, Lukas Nelson\, Candlebox\, 3 Doors Down\, Hayes Carll\, Jack Ingram\, Shinyribs\, Jackie Venson\, and Comedian Ron White. They are a two-time Sonic Guild (formerly Black Fret) Grant recipient and were the first Austin-based band to perform at the Moody Center in Austin\, TX. Read more at madamradar.com. \n\nFor More Bucks Events: https://bucksbackyard.com/events/
URL:https://bucksbackyard.com/event/madam-radar/
LOCATION:Buck’s Backyard\, 1750 S. FM 1626\, Buda\, TX\, 78610\, United States
ATTACH;FMTTYPE=image/jpeg:https://bucksbackyard.com/wp-content/uploads/2026/04/madam-radar-BUDA-1920x1080-TV-1.jpg
GEO:30.0708447;-97.8730954
X-APPLE-STRUCTURED-LOCATION;VALUE=URI;X-ADDRESS=Buck’s Backyard 1750 S. FM 1626 Buda TX 78610 United States;X-APPLE-RADIUS=500;X-TITLE=1750 S. FM 1626:geo:-97.8730954,30.0708447
END:VEVENT
BEGIN:VEVENT
DTSTART;TZID=America/New_York:20260529T200000
DTEND;TZID=America/New_York:20260529T230000
DTSTAMP:20260421T060412
CREATED:20260401T130556Z
LAST-MODIFIED:20260401T130556Z
UID:10000381-1780084800-1780095600@bucksbackyard.com
SUMMARY:Lover - Taylor Swift Tribute
DESCRIPTION:About the Show:\nLover – Taylor Swift Tribute \nLOVER is a high-energy Taylor Swift tribute experience recreating the magic and spectacle of The Eras Tour\, the highest-grossing tour of all time. From “Love Story” to “The Life of a Showgirl\,” the show journeys through every era of Taylor Swift’s music with dazzling costumes\, iconic choreography\, and an electrifying live band. \nFronted by singer and multi-instrumentalist Charity Eden\, whose magnetic stage presence and powerful vocals captivate audiences of all ages\, LOVER brings the excitement of Taylor Swift’s music to life. \nLOVER tours internationally\, with performances in Japan\, Kuwait\, Canada\, Bermuda\, and across the United States\, with upcoming shows throughout Europe. This is a show you won’t want to miss! \nFor More Bucks Events: https://bucksbackyard.com/events/
URL:https://bucksbackyard.com/event/lover-taylor-swift-tribute/
LOCATION:Buck’s Backyard\, 1750 S. FM 1626\, Buda\, TX\, 78610\, United States
ATTACH;FMTTYPE=image/jpeg:https://bucksbackyard.com/wp-content/uploads/2026/04/LOVER-BUDA-1920x1080-TV.jpg
GEO:30.0708447;-97.8730954
X-APPLE-STRUCTURED-LOCATION;VALUE=URI;X-ADDRESS=Buck’s Backyard 1750 S. FM 1626 Buda TX 78610 United States;X-APPLE-RADIUS=500;X-TITLE=1750 S. FM 1626:geo:-97.8730954,30.0708447
END:VEVENT
BEGIN:VEVENT
DTSTART;TZID=America/New_York:20260605T200000
DTEND;TZID=America/New_York:20260605T230000
DTSTAMP:20260421T060412
CREATED:20260210T152613Z
LAST-MODIFIED:20260317T140951Z
UID:10000358-1780689600-1780700400@bucksbackyard.com
SUMMARY:Junior Brown
DESCRIPTION:About the Show:\nJunior Brown \nWith his unmistakable voice\, sharp songwriting\, and one-of-a-kind double-neck “Guit-Steel\,” Junior Brown stands alone in American music. Born in 1952 in Arizona and raised in Indiana\, he was immersed in country sounds early on\, teaching himself guitar and performing from a young age—including sharing the stage with Bo Diddley as a teen. \nAfter years honing his craft in honky-tonks across the Southwest\, Brown developed a unique style blending country\, rock\, blues\, and western swing. In the mid-’80s\, he invented the Guit-Steel\, allowing him to seamlessly switch between guitar and steel guitar mid-song—further defining his signature sound. \nRelocating to Austin in the early ’90s\, Brown gained national attention with his debut album Twelve Shades of Brown and went on to earn Grammy nominations\, a CMA award\, and appearances on major TV shows and films. He’s collaborated with legends like George Jones\, Ralph Stanley\, and the Beach Boys. \nStill touring with his band\, Junior Brown continues to deliver a live show like no other. GUIT WITH IT—he’s truly an American original. \nFor More Bucks Events: https://bucksbackyard.com/events/
URL:https://bucksbackyard.com/event/junior-brown/
LOCATION:Buck’s Backyard\, 1750 S. FM 1626\, Buda\, TX\, 78610\, United States
ATTACH;FMTTYPE=image/jpeg:https://bucksbackyard.com/wp-content/uploads/2026/02/Junior-Brown-BUCKS-BACKYARD.jpg
GEO:30.0708447;-97.8730954
X-APPLE-STRUCTURED-LOCATION;VALUE=URI;X-ADDRESS=Buck’s Backyard 1750 S. FM 1626 Buda TX 78610 United States;X-APPLE-RADIUS=500;X-TITLE=1750 S. FM 1626:geo:-97.8730954,30.0708447
END:VEVENT
BEGIN:VEVENT
DTSTART;TZID=America/New_York:20260606T200000
DTEND;TZID=America/New_York:20260606T230000
DTSTAMP:20260421T060412
CREATED:20260317T125206Z
LAST-MODIFIED:20260420T211931Z
UID:10000374-1780776000-1780786800@bucksbackyard.com
SUMMARY:"The #1 90's Country Experience in America!" Jeremy McComb's Honky Tonk Circus
DESCRIPTION:About the Show:\nThe #1 90’s Country Experience in America… PERIOD \n\nThe Honky-Tonk Circus Tour isn’t a throwback — it’s a full-throttle time machine to the nights when country music ruled the room. \nThis is the feeling of the ’90s brought roaring back to life: wall-to-wall hits\, hands-in-the-air sing-alongs\, and a stage show built to hit you in the chest. Fronted by Nashville hit songwriter and relentless road warrior Jeremy McComb\, the Honky-Tonk Circus delivers two hours of pure country adrenaline — no filler\, no slowdown\, no apologies. \nMcComb’s songs have powered projects selling over 6 million units\, including a Grammy-nominated film soundtrack\, and his 120+ shows a year across the U.S. and Europe have forged a show that’s sharp\, loud\, and unapologetically fun. This isn’t a tribute band chasing nostalgia — it’s a premium\, big-league concert experience designed to move a crowd. \nFrom the anthems of Garth Brooks and Brooks & Dunn to the fire of Shania Twain and Toby Keith\, every song lands like a shared memory — louder\, bigger\, and more electric than you remember. Backed by a high-impact light show and over $130\,000 in touring production\, the Honky-Tonk Circus looks and feels like a headliner because it is one. \nPerfect for fans who grew up on real country — and younger crowds discovering it for the first time — this is a night that turns strangers into a choir and venues into a party.\nPeople don’t just attend the Honky-Tonk Circus.\nThey leave smiling\, hoarse\, and already planning to come back. \n\nFor More Bucks Events: https://bucksbackyard.com/events/
URL:https://bucksbackyard.com/event/jeremy-mccombs-honky-tonk-circus/
LOCATION:Buck’s Backyard\, 1750 S. FM 1626\, Buda\, TX\, 78610\, United States
ATTACH;FMTTYPE=image/jpeg:https://bucksbackyard.com/wp-content/uploads/2026/03/HONKY-TONK-CIRCUS-BUCKS-BACKYARD_2-scaled.jpg
GEO:30.0708447;-97.8730954
X-APPLE-STRUCTURED-LOCATION;VALUE=URI;X-ADDRESS=Buck’s Backyard 1750 S. FM 1626 Buda TX 78610 United States;X-APPLE-RADIUS=500;X-TITLE=1750 S. FM 1626:geo:-97.8730954,30.0708447
END:VEVENT
BEGIN:VEVENT
DTSTART;TZID=America/New_York:20260613T200000
DTEND;TZID=America/New_York:20260613T230000
DTSTAMP:20260421T060412
CREATED:20260331T194527Z
LAST-MODIFIED:20260331T194638Z
UID:10000379-1781380800-1781391600@bucksbackyard.com
SUMMARY:Giovannie & The Hired Guns
DESCRIPTION:About the Show: \nDon’t miss Giovannie & The Hired Guns live at Buck’s Backyard! \nFor More Bucks Events: https://bucksbackyard.com/events/ \n\n 
URL:https://bucksbackyard.com/event/giovannie-and-the-hired-guns-buda/
LOCATION:TX
ATTACH;FMTTYPE=image/jpeg:https://bucksbackyard.com/wp-content/uploads/2026/03/GIOVANNIE-THE-HIRED-GUNS-BUDA-1920x1080-TV-1.jpg
END:VEVENT
BEGIN:VEVENT
DTSTART;TZID=America/New_York:20260620T200000
DTEND;TZID=America/New_York:20260620T230000
DTSTAMP:20260421T060412
CREATED:20260401T130037Z
LAST-MODIFIED:20260401T130038Z
UID:10000380-1781985600-1781996400@bucksbackyard.com
SUMMARY:Taj Farrant
DESCRIPTION:About the Show:\nTaj Farrant \nTaj Farrant is an Australian guitarist and musician known for his remarkable talent at a young age. He gained recognition through social media platforms\, particularly for his impressive guitar covers and original compositions. Taj has been featured in various music festivals like Big Blues Bender in Vegas\, Telluride’s Blues & Brew and Australia’s largest Blues Festival Bluesfest to name a few. He has also collaborated with established artists such as Carlos Santana\, Buddy Guy and the Hendrix Experience team\, showcasing his skills in genres like rock and blues. His unique style and virtuosity have earned him a growing fanbase and accolades within the music community. \nFarrant’s debut album tour\, titled “Chapter One\,” marks an exciting milestone for this young Australian guitarist and singer-songwriter. Launched to coincide with the release of his highly anticipated first album\, the tour showcases his exceptional talent and eclectic musical style\, blending rock\, blues\, and pop influences. With electrifying performances and heartfelt songwriting\, Farrant captivates audiences as he embarks on this new artistic journey\, solidifying his place in the music scene and promising a bright future ahead. \n“Chapter One” Album Highlights: \n• Debuts #1 on the iTunes Blues Chart \n• Debuts #2 on the Billboard Blues Chart \n• Debuts #8 on the Arias Blues & Jazz Chart \n• 6 of the 9 originals debuts #1 on iTunes and Amazon \n​ \nFor More Bucks Events: https://bucksbackyard.com/events/
URL:https://bucksbackyard.com/event/taj-farrant/
LOCATION:Buck’s Backyard\, 1750 S. FM 1626\, Buda\, TX\, 78610\, United States
ATTACH;FMTTYPE=image/jpeg:https://bucksbackyard.com/wp-content/uploads/2026/04/TAJ-FARRANT-BUDA-1920x1080-TV.jpg
GEO:30.0708447;-97.8730954
X-APPLE-STRUCTURED-LOCATION;VALUE=URI;X-ADDRESS=Buck’s Backyard 1750 S. FM 1626 Buda TX 78610 United States;X-APPLE-RADIUS=500;X-TITLE=1750 S. FM 1626:geo:-97.8730954,30.0708447
END:VEVENT
BEGIN:VEVENT
DTSTART;TZID=America/New_York:20260704T200000
DTEND;TZID=America/New_York:20260704T230000
DTSTAMP:20260421T060413
CREATED:20260402T122503Z
LAST-MODIFIED:20260402T122503Z
UID:10000383-1783195200-1783206000@bucksbackyard.com
SUMMARY:Hair Metal Giants
DESCRIPTION:About the Show:\nHair Metal Giants \nHair Metal Giants is an 80s tribute band from Austin\, TX. Some call it ‘pop metal’… some call it ‘glam metal’… by whatever name you favor\, we are devoted to that amazing era of rock from the late 70’s to the early 90’s most people call ‘hair metal’. Big melodies\, big harmonies\, big anthems\, and yes\, of course\, big hair! \n \nThe band got its start in 2013 when Paul formed Emerson Giants – a variety classic-rock band. After years of playing around Austin\, learning what worked on stage (and sometimes\, what didn’t)\, and noticing that the feel-good anthems\, rockers and power ballads of the ‘hair metal’ era went over big with Central Texas audiences\, Emerson Giants became Hair Metal Giants – focusing in on “The Best Decade of Rock” – the 80s!\n\nMeticulously researching and recreating the looks\, stage presence and sounds of the bands of this era is our highest priority – along with making our shows “Nothin’ But A Good Time” for the audience. \n\nWe live up to the band’s motto to “Rock and Roll All Nite — and party every day!” \nFor More Bucks Events: https://bucksbackyard.com/events/
URL:https://bucksbackyard.com/event/hair-metal-giants/
LOCATION:Buck’s Backyard\, 1750 S. FM 1626\, Buda\, TX\, 78610\, United States
ATTACH;FMTTYPE=image/jpeg:https://bucksbackyard.com/wp-content/uploads/2026/04/HAIR-METAL-GIANTS-BUDA-1920x1080-TV-2.jpg
GEO:30.0708447;-97.8730954
X-APPLE-STRUCTURED-LOCATION;VALUE=URI;X-ADDRESS=Buck’s Backyard 1750 S. FM 1626 Buda TX 78610 United States;X-APPLE-RADIUS=500;X-TITLE=1750 S. FM 1626:geo:-97.8730954,30.0708447
END:VEVENT
BEGIN:VEVENT
DTSTART;TZID=America/New_York:20260717T200000
DTEND;TZID=America/New_York:20260717T230000
DTSTAMP:20260421T060413
CREATED:20260227T151353Z
LAST-MODIFIED:20260317T212505Z
UID:10000366-1784318400-1784329200@bucksbackyard.com
SUMMARY:Back In Black - AC/DC Tribute
DESCRIPTION:About the Show:\nThe Back in Black tribute band is an incredible\, exciting\, high energy reproduction of a concert performance of AC/DC . So Authentic\, our lead singer auditioned for the real AC/DC March 2016!. We stand above the other AC/DC tributes because we include tribute performances of both Bon Scott and Brian Johnson.\nFor 24 years! Back in Black- Simply the next best thing to AC/DC!\nFor More Bucks Events: https://bucksbackyard.com/events/
URL:https://bucksbackyard.com/event/back-in-black-ac-dc-tribute-2/
LOCATION:Buck’s Backyard\, 1750 S. FM 1626\, Buda\, TX\, 78610\, United States
ATTACH;FMTTYPE=image/jpeg:https://bucksbackyard.com/wp-content/uploads/2026/02/Back-in-Black-BUCKS-BACKYARD-1920x1080-TV-1.jpg
GEO:30.0708447;-97.8730954
X-APPLE-STRUCTURED-LOCATION;VALUE=URI;X-ADDRESS=Buck’s Backyard 1750 S. FM 1626 Buda TX 78610 United States;X-APPLE-RADIUS=500;X-TITLE=1750 S. FM 1626:geo:-97.8730954,30.0708447
END:VEVENT
BEGIN:VEVENT
DTSTART;TZID=America/New_York:20260724T200000
DTEND;TZID=America/New_York:20260724T230000
DTSTAMP:20260421T060413
CREATED:20260127T193059Z
LAST-MODIFIED:20260317T140306Z
UID:10000348-1784923200-1784934000@bucksbackyard.com
SUMMARY:Los Lonely Boys
DESCRIPTION:About the Show:\nLos Lonely Boys\nGRAMMY® Award-winning\, multi-platinum trio Los Lonely Boys—brothers Henry\, Jojo\, and Ringo Garza—have built their career on a powerful musical bond rooted in family. Hailing from San Angelo\, Texas\, they broke through with their double-platinum debut and hit single “Heaven\,” earning a GRAMMY® and worldwide acclaim. \nBlending rock\, blues\, soul\, and Tejano influences\, the band has released multiple successful albums and collaborated with legends like Santana and Willie Nelson\, while performing on some of the biggest stages in the world. \nAfter a brief hiatus\, Los Lonely Boys returned with renewed energy\, continuing to deliver their signature sound and heartfelt message of love and unity. \nDriven by brotherhood and a deep connection on and off stage\, Los Lonely Boys remain one of Texas’ most beloved and enduring acts. \nFor More Bucks Events: https://bucksbackyard.com/events/
URL:https://bucksbackyard.com/event/los-lonely-boys/
LOCATION:Buck’s Backyard\, 1750 S. FM 1626\, Buda\, TX\, 78610\, United States
ATTACH;FMTTYPE=image/jpeg:https://bucksbackyard.com/wp-content/uploads/2026/01/Los-Lonely-Boys-Bucks-Backyard.jpeg
GEO:30.0708447;-97.8730954
X-APPLE-STRUCTURED-LOCATION;VALUE=URI;X-ADDRESS=Buck’s Backyard 1750 S. FM 1626 Buda TX 78610 United States;X-APPLE-RADIUS=500;X-TITLE=1750 S. FM 1626:geo:-97.8730954,30.0708447
END:VEVENT
BEGIN:VEVENT
DTSTART;TZID=America/New_York:20260731T180000
DTEND;TZID=America/New_York:20260731T230000
DTSTAMP:20260421T060413
CREATED:20260414T191205Z
LAST-MODIFIED:20260414T191248Z
UID:10000386-1785520800-1785538800@bucksbackyard.com
SUMMARY:Desert Highway - Eagles Tribute
DESCRIPTION:About the Show: \nDesert Highway – Eagles Tribute \nGet ready for a night of Eagles hits like “Hotel California\,” “Take It Easy\,” “Peaceful Easy Feeling\,” and more. Doors at 6pm \nFor More Bucks Events: https://bucksbackyard.com/events/
URL:https://bucksbackyard.com/event/desert-highway-2026/
LOCATION:Buck’s Backyard\, 1750 S. FM 1626\, Buda\, TX\, 78610\, United States
ATTACH;FMTTYPE=image/png:https://bucksbackyard.com/wp-content/uploads/2026/04/08.14.26_DesertHighway_Waco_1920x1080_TVBanner.png
GEO:30.0708447;-97.8730954
X-APPLE-STRUCTURED-LOCATION;VALUE=URI;X-ADDRESS=Buck’s Backyard 1750 S. FM 1626 Buda TX 78610 United States;X-APPLE-RADIUS=500;X-TITLE=1750 S. FM 1626:geo:-97.8730954,30.0708447
END:VEVENT
BEGIN:VEVENT
DTSTART;TZID=America/New_York:20260808T200000
DTEND;TZID=America/New_York:20260808T230000
DTSTAMP:20260421T060413
CREATED:20260209T155919Z
LAST-MODIFIED:20260317T140635Z
UID:10000356-1786219200-1786230000@bucksbackyard.com
SUMMARY:Rick Trevino
DESCRIPTION:About the Show:\nRick Trevino\nRick Trevino is a country music artist known for blending English and Spanish influences into his sound. Breaking out in 1993 with “Just Enough Rope”—the first mainstream country single released in both English and Spanish—he quickly gained national attention. \nWith seven studio albums and fourteen charting singles\, Trevino scored a No. 1 hit with “Running Out of Reasons to Run” in 1996. \nA pioneer in bilingual country music\, Rick Trevino remains a standout voice in the genre. \nFor More Bucks Events: https://bucksbackyard.com/events/
URL:https://bucksbackyard.com/event/rick-trevino/
LOCATION:Buck’s Backyard\, 1750 S. FM 1626\, Buda\, TX\, 78610\, United States
ATTACH;FMTTYPE=image/jpeg:https://bucksbackyard.com/wp-content/uploads/2026/02/Rick-Trevino-BUCKS-BACKYARD-1920x1080-TV.jpg
GEO:30.0708447;-97.8730954
X-APPLE-STRUCTURED-LOCATION;VALUE=URI;X-ADDRESS=Buck’s Backyard 1750 S. FM 1626 Buda TX 78610 United States;X-APPLE-RADIUS=500;X-TITLE=1750 S. FM 1626:geo:-97.8730954,30.0708447
END:VEVENT
BEGIN:VEVENT
DTSTART;TZID=America/New_York:20260905T200000
DTEND;TZID=America/New_York:20260905T230000
DTSTAMP:20260421T060413
CREATED:20260129T132314Z
LAST-MODIFIED:20260317T214725Z
UID:10000349-1788638400-1788649200@bucksbackyard.com
SUMMARY:Bob Schneider
DESCRIPTION:About the Show: \nBob Schneider \nAustin\, Texas-based singer-songwriter and former frontman of The Ugly Americans and The Scabs\, Bob Schneider is one of the most-celebrated musicians in the live music capital. Combining diverse styles\, Schneider’s music spans genres\, blending elements of folk\, rock\, rap\, funk\, bluegrass\, reggae and country with the more traditional singer/songwriter aesthetic. In short\, FRUNK. \n  \nFor More Bucks Events: https://bucksbackyard.com/events/
URL:https://bucksbackyard.com/event/bob-schneider/
LOCATION:Buck’s Backyard\, 1750 S. FM 1626\, Buda\, TX\, 78610\, United States
ATTACH;FMTTYPE=image/jpeg:https://bucksbackyard.com/wp-content/uploads/2026/01/BOB-SCHNEIDER-BUCKS-BACKYARD.jpg
GEO:30.0708447;-97.8730954
X-APPLE-STRUCTURED-LOCATION;VALUE=URI;X-ADDRESS=Buck’s Backyard 1750 S. FM 1626 Buda TX 78610 United States;X-APPLE-RADIUS=500;X-TITLE=1750 S. FM 1626:geo:-97.8730954,30.0708447
END:VEVENT
END:VCALENDAR